BEGIN:VCALENDAR
VERSION:2.0
PRODID:-//wp-events-plugin.com//7.2.3.1//EN
TZID:Europe/Brussels
X-WR-TIMEZONE:Europe/Brussels
BEGIN:VEVENT
UID:617@radiopaloma.com
DTSTART;TZID=Europe/Brussels;VALUE=DATE:20260502
DTEND;TZID=Europe/Brussels;VALUE=DATE:20260503
DTSTAMP:20260328T174217Z
URL:https://radiopaloma.com/Regio-Info/baol-tent/
SUMMARY:Baol Tent
DESCRIPTION:Het aftellen is naar Baol Tent is begonnen... Op zaterdag 2 mei
  transformeren we de tent weer voor een knalfeest! Maar dit jaar doen we h
 et wel anders!\nWe geven de controle volledig uit handen... aan JOU!\nJij 
 bepaalt wat er gedraaid wordt die avond via een QR code.\n\nVan Zomer Knal
 lers tot Rock Anthems en van Schlager tot de Turbo Ronde... 90-ties\, Zero
 's\, Happy Hardcore of Free Style\n\nU rule the music. Alles komt voorbij 
 zolang jullie erop stemmen!\n\nKijk voor kaarten en stemmen op Instagram o
 f Facebook.\nBoal Tent is een organisatie van Voetbal Vereniging Dosko uit
  Baarle-Hertog
END:VEVENT
BEGIN:VTIMEZONE
TZID:Europe/Brussels
X-LIC-LOCATION:Europe/Brussels
BEGIN:DAYLIGHT
DTSTART:20260329T030000
TZOFFSETFROM:+0100
TZOFFSETTO:+0200
TZNAME:CEST
END:DAYLIGHT
END:VTIMEZONE
END:VCALENDAR