BEGIN:VCALENDAR
VERSION:2.0
PRODID:-//wp-events-plugin.com//7.2.3.1//EN
TZID:Europe/Brussels
X-WR-TIMEZONE:Europe/Brussels
BEGIN:VEVENT
UID:348@radiopaloma.com
DTSTART;TZID=Europe/Brussels:20241126T190000
DTEND;TZID=Europe/Brussels:20241126T190000
DTSTAMP:20241028T143907Z
URL:https://radiopaloma.com/Regio-Info/filmavond-carel-de-roy/
SUMMARY:Filmavond Carel de Roy
DESCRIPTION:Heemkundekring Carel de Roy organiseert binnenkort een filmavon
 d\;\n"Alphen\, Chaam en Riel in de tweede wereldoorlog".\n\nU bent van har
 te welkom op dinsdag 12 of 26 november om 19.00 uur\,\nde film start om 19
 .30 uur.\nIn het Cultureel Centrum "Den Heuvel" in Alphen\, Heuvelstraat 5
 .\nFilm\, foto’s &amp\; persoonlijke verhalen over de oorlog en bevrijdi
 ng\nin ons heem.\nInschrijven is noodzakelijk via info.carelderoy@gmail.co
 m\nDe entree is 5 euro\, inclusief consumptie.\n\nKijk voor meer info op:\
 nwww.alphenserfgoed.nl / www.chaamserfgoed.nl / www.rielserfgoed.nl\nNa ve
 el interesse ook een uitvoering op 10 december!
END:VEVENT
BEGIN:VTIMEZONE
TZID:Europe/Brussels
X-LIC-LOCATION:Europe/Brussels
BEGIN:STANDARD
DTSTART:20241027T020000
TZOFFSETFROM:+0200
TZOFFSETTO:+0100
TZNAME:CET
END:STANDARD
END:VTIMEZONE
END:VCALENDAR