BEGIN:VCALENDAR
VERSION:2.0
PRODID:-//wp-events-plugin.com//7.2.3.1//EN
TZID:Europe/Brussels
X-WR-TIMEZONE:Europe/Brussels
BEGIN:VEVENT
UID:593@radiopaloma.com
DTSTART;TZID=Europe/Brussels:20260228T193000
DTEND;TZID=Europe/Brussels:20260228T193000
DTSTAMP:20260106T173645Z
URL:https://radiopaloma.com/Regio-Info/quiz-ouderraad-t-spoor/
SUMMARY:Quiz ouderraad 't Spoor
DESCRIPTION:Ouderraad 't Spoor organiseert op zaterdag 28 februari een geze
 llige quiz om 20.00 uur in het Parochiecentrum Weelde Statie.\n\nDe deuren
  gaan open vanaf 19.30 uur.\nSchrijf je in voor deze gezellige quiz.\nJe p
 loeg bestaat uit maximaal 6 personen. Kosten 24 euro.\nInfo\, inschrijven 
 en wijze van betalen via telefoonnummer:\n014-633710 of 0498-767066
END:VEVENT
BEGIN:VTIMEZONE
TZID:Europe/Brussels
X-LIC-LOCATION:Europe/Brussels
BEGIN:STANDARD
DTSTART:20251026T020000
TZOFFSETFROM:+0200
TZOFFSETTO:+0100
TZNAME:CET
END:STANDARD
END:VTIMEZONE
END:VCALENDAR