BEGIN:VCALENDAR
VERSION:2.0
PRODID:-//wp-events-plugin.com//7.2.3.1//EN
TZID:Europe/Brussels
X-WR-TIMEZONE:Europe/Brussels
BEGIN:VEVENT
UID:596@radiopaloma.com
DTSTART;TZID=Europe/Brussels:20260227T200000
DTEND;TZID=Europe/Brussels:20260227T200000
DTSTAMP:20260208T233514Z
URL:https://radiopaloma.com/Regio-Info/tribute-to-nirvana-in-de-wouwer/
SUMMARY:Tribute to Nirvana in de Wouwer
DESCRIPTION:Vrijdag 27 februari 2026 om 20.00 uur is er een concert in Cult
 uur Centrum de Wouwer in Ravels\n\nIn 1991 werd Nevermind van Nirvana de w
 ereld ingestuurd. Een van de belangrijkste platen uit de rockgeschiedenis\
 , die de muzieksector flink overhoop haalde. Nevermind wordt gezien als de
  doorbraak van de grunge\, een wereldveroverend muziekgenre.\nEn 35 jaar g
 runge moet gevierd worden. De vijf klassiek geschoolde muzikanten van Clas
 s X nemen het genre onder de loep in een apart akoestisch jasje en brengen
  de grootste grungehits zoals niemand ze ooit gehoord heeft.\nEen heuse tr
 ip naar Seattle and back\, met muziek van Pearl Jam\, Smashing Pumpkins\, 
 Soul Asylum\, Weezer\, The Cranberries\, Rage Against The Machine en\, nat
 uurlijk\, Nirvana.\nEen tribute aan een genre dat maar een aantal jaren ec
 ht heeft bestaan\, maar volgens sommigen de beste rockmuziek aller tijden 
 voortbracht.\n\nTribute to NirvanaTickets vanaf € 15\,00 Reserveer via d
 ewouwer.be\nLocatie: De Wouwer\, Kloosterstraat 4\, 2380 Ravels
END:VEVENT
BEGIN:VTIMEZONE
TZID:Europe/Brussels
X-LIC-LOCATION:Europe/Brussels
BEGIN:STANDARD
DTSTART:20251026T020000
TZOFFSETFROM:+0200
TZOFFSETTO:+0100
TZNAME:CET
END:STANDARD
END:VTIMEZONE
END:VCALENDAR